BEGIN:VCALENDAR
VERSION:2.0
PRODID:-//Department Of Education//b5e45d04-6a6a-4292-b1d4-b8997a4a9cf3
BEGIN:VTIMEZONE
TZID:Australia/Sydney
TZURL:http://tzurl.org/zoneinfo-outlook/Australia/Sydney
X-LIC-LOCATION:Australia/Sydney
BEGIN:STANDARD
TZOFFSETFROM:+1100
TZOFFSETTO:+1000
TZNAME:AEST
DTSTART:19700405T030000
RRULE:FREQ=YEARLY;BYMONTH=4;BYDAY=1SU
END:STANDARD
BEGIN:DAYLIGHT
TZOFFSETFROM:+1000
TZOFFSETTO:+1100
TZNAME:AEDT
DTSTART:19701004T020000
RRULE:FREQ=YEARLY;BYMONTH=10;BYDAY=1SU
END:DAYLIGHT
END:VTIMEZONE
CALSCALE:GREGORIAN
X-WR-TIMEZONE:Australia/Sydney
BEGIN:VEVENT
DTSTART;VALUE=DATE:20200216
DTEND;VALUE=DATE:20200217
DTSTAMP:20200216T000000Z
UID:4b23a47b-503c-4c0c-819e-e3f505c6e2f8
LOCATION:St Ives
SUMMARY;LANGUAGE=en-us:Calendar
RRULE:FREQ=DAILY;INTERVAL=1;UNTIL=20200316;
SEQUENCE:0
DESCRIPTION:Click for school calendar 
END:VEVENT
TRANSP:TRANSPARENT
END:VCALENDAR
